BEGIN:VCALENDAR
VERSION:2.0
PRODID:-//Constellators International - ECPv6.15.20//NONSGML v1.0//EN
CALSCALE:GREGORIAN
METHOD:PUBLISH
X-ORIGINAL-URL:https://constellators-international.com
X-WR-CALDESC:Events for Constellators International
REFRESH-INTERVAL;VALUE=DURATION:PT1H
X-Robots-Tag:noindex
X-PUBLISHED-TTL:PT1H
BEGIN:VTIMEZONE
TZID:Europe/Paris
BEGIN:DAYLIGHT
TZOFFSETFROM:+0100
TZOFFSETTO:+0200
TZNAME:CEST
DTSTART:20230326T010000
END:DAYLIGHT
BEGIN:STANDARD
TZOFFSETFROM:+0200
TZOFFSETTO:+0100
TZNAME:CET
DTSTART:20231029T010000
END:STANDARD
BEGIN:DAYLIGHT
TZOFFSETFROM:+0100
TZOFFSETTO:+0200
TZNAME:CEST
DTSTART:20240331T010000
END:DAYLIGHT
BEGIN:STANDARD
TZOFFSETFROM:+0200
TZOFFSETTO:+0100
TZNAME:CET
DTSTART:20241027T010000
END:STANDARD
BEGIN:DAYLIGHT
TZOFFSETFROM:+0100
TZOFFSETTO:+0200
TZNAME:CEST
DTSTART:20250330T010000
END:DAYLIGHT
BEGIN:STANDARD
TZOFFSETFROM:+0200
TZOFFSETTO:+0100
TZNAME:CET
DTSTART:20251026T010000
END:STANDARD
END:VTIMEZONE
BEGIN:VEVENT
DTSTART;TZID=Europe/Paris:20240415T190000
DTEND;TZID=Europe/Paris:20240415T220000
DTSTAMP:20260420T161332
CREATED:20231020T112415Z
LAST-MODIFIED:20240409T142705Z
UID:11797-1713207600-1713218400@constellators-international.com
SUMMARY:Meet and Eat – Let's have Dinner together
DESCRIPTION:ENTERTAINMENT On the first Eveneing in Malta\, we want to go out for Dinner with you \nMeet and Eat – Let’s have Dinner together\nWe meet at 7 PM / 19:00 in the lobby of the Luna Hotel\, to go from there to a restaurant to enjoy dinner together. \nSanaz will reserve a table for us. \n 
URL:https://constellators-international.com/event/barbeque/
LOCATION:Luna Holiday Complex\, Marfa Road Mellieha\, MLH 9063\, Malta\, Mellieha\, Malta\, 9063\, Malta
CATEGORIES:Entertainment
ORGANIZER;CN="https%3A//constellators-international.com":MAILTO:call@constellators-international.com
END:VEVENT
BEGIN:VEVENT
DTSTART;TZID=Europe/Paris:20240415T110000
DTEND;TZID=Europe/Paris:20240415T123000
DTSTAMP:20260420T161332
CREATED:20231020T080806Z
LAST-MODIFIED:20240409T142818Z
UID:11774-1713178800-1713184200@constellators-international.com
SUMMARY:Let's start with a smile
DESCRIPTION:Official Opening of the Malta Retreat 2024 \nStephanie + Sanaz will officially start the Malta Retreat and introduce the program of the 3 weeks \n11-12:30\, Luna Complex Hotel \n 
URL:https://constellators-international.com/event/opening/
LOCATION:Luna Holiday Complex\, Marfa Road Mellieha\, MLH 9063\, Malta\, Mellieha\, Malta\, 9063\, Malta
CATEGORIES:Entertainment
ORGANIZER;CN="https%3A//constellators-international.com":MAILTO:call@constellators-international.com
END:VEVENT
END:VCALENDAR